BEGIN:VCALENDAR
VERSION:2.0
PRODID:-//ChamberMaster//Event Calendar 2.0//EN
METHOD:PUBLISH
X-PUBLISHED-TTL:P3D
REFRESH-INTERVAL:P3D
CALSCALE:GREGORIAN
BEGIN:VEVENT
DTSTART:20230315T113000Z
DTEND:20230315T130000Z
X-MICROSOFT-CDO-ALLDAYEVENT:FALSE
SUMMARY:Wake up Wednesday - Networking -March
DESCRIPTION:Come and join me for some networking before you go into work Don't forget to bring your business cards
X-ALT-DESC;FMTTYPE=text/html:Come and join me for some networking before you go into work Don&#39\;t forget to bring your business cards&nbsp\;&nbsp\;&nbsp\;&nbsp\;
LOCATION:CBCCC Office 321 Main St. Towanda
UID:e.2447.2702
SEQUENCE:3
DTSTAMP:20260425T123131Z
URL:https://business.centralbradford.org/events/details/wake-up-wednesday-networking-march-2702
END:VEVENT

END:VCALENDAR
