BEGIN:VCALENDAR
VERSION:2.0
PRODID:-//ChamberMaster//Event Calendar 2.0//EN
METHOD:PUBLISH
X-PUBLISHED-TTL:P3D
REFRESH-INTERVAL:P3D
CALSCALE:GREGORIAN
BEGIN:VEVENT
DTSTART:20230124T223000Z
DTEND:20230125T003000Z
X-MICROSOFT-CDO-ALLDAYEVENT:FALSE
SUMMARY:Vision Board Party
DESCRIPTION:Come for some wine\, sodas\, snacks and let's dream up a powerful 2023 together.\n\n\n\nBring a few old magazines\, and I'll provide the rest.
X-ALT-DESC;FMTTYPE=text/html:Come for some wine\, sodas\, snacks and let&#39\;s dream up a powerful 2023 together.<br />\n<br />\nBring a few old magazines\, and I&#39\;ll provide the rest.
LOCATION:CBCCC Office 321 Main St. Towanda
UID:e.2447.2698
SEQUENCE:3
DTSTAMP:20260425T152947Z
URL:https://business.centralbradford.org/events/details/vision-board-party-2698
END:VEVENT

END:VCALENDAR
