BEGIN:VCALENDAR
VERSION:2.0
PRODID:-//ChamberMaster//Event Calendar 2.0//EN
METHOD:PUBLISH
X-PUBLISHED-TTL:P3D
REFRESH-INTERVAL:P3D
CALSCALE:GREGORIAN
BEGIN:VEVENT
DTSTART:20251025T230000Z
DTEND:20251026T010000Z
X-MICROSOFT-CDO-ALLDAYEVENT:FALSE
SUMMARY:Towanda Halloween Parade
DESCRIPTION:98th annual Halloweeen Parade\, this year the parade will be on October 25th 2025 at 7 PM and line up for floats will begin at 6pm. To anyone that may have missed us last year\, we will be back on Main Street in Towanda again with the parade starting at Elm St and ending at Elizabeth Street. The theme for this year is "Good Ole Fashion Halloween."\n\n\n\nAlso\, we have asked a special little girl to be this years Grand Marshal. Adalyn Johnson\, a 2-year-old from Towanda who was diagnosed and fighting Stage 4 Germ Cell Cancer. She is receiving chemotherapy at Janet Weis Children's Hospital in Danville. Let's come out and show her how awesome our community can be and wish her all the best during this difficult time.
X-ALT-DESC;FMTTYPE=text/html:<span style="color: rgb(8\, 8\, 9)\; font-family: &quot\;Segoe UI Historic&quot\;\, &quot\;Segoe UI&quot\;\, Helvetica\, Arial\, sans-serif\; font-size: 14px\; white-space-collapse: preserve\;">98th annual Halloweeen Parade\, this year the parade will be on October 25th 2025 </span><span class="html-span xdj266r x14z9mp xat24cr x1lziwak xexx8yu xyri2b x18d9i69 x1c1uobl x1hl2dhg x16tdsg8 x1vvkbs" style="overflow-wrap: break-word\; margin-inline: 0px\; padding-inline: 0px\; padding-bottom: 0px\; margin-bottom: 0px\; margin-top: 0px\; padding-top: 0px\; font-family: &quot\;Segoe UI Historic&quot\;\, &quot\;Segoe UI&quot\;\, Helvetica\, Arial\, sans-serif\; color: rgb(8\, 8\, 9)\; font-size: 14px\; white-space-collapse: preserve\;"></span><span style="color: rgb(8\, 8\, 9)\; font-family: &quot\;Segoe UI Historic&quot\;\, &quot\;Segoe UI&quot\;\, Helvetica\, Arial\, sans-serif\; font-size: 14px\; white-space-collapse: preserve\;">at 7 PM and line up for floats will begin at 6pm. To anyone that may have missed us last year\, we will be back on Main Street in Towanda again with the parade starting at Elm St and ending at Elizabeth Street. The theme for this year is &ldquo\;Good Ole Fashion Halloween.&rdquo\;<br />\n<br />\nAlso\, we have asked a special little girl to be this years Grand Marshal. Adalyn Johnson\, a 2-year-old from Towanda who was diagnosed and fighting Stage 4 Germ Cell Cancer. She is receiving chemotherapy at Janet Weis Children&#39\;s Hospital in Danville. Let&rsquo\;s come out and show her how awesome our community can be and wish her all the best during this difficult time.</span>
LOCATION:Main St Towanda
UID:e.2447.3709
SEQUENCE:3
DTSTAMP:20260423T154859Z
URL:https://business.centralbradford.org/events/details/towanda-halloween-parade-3709
END:VEVENT

END:VCALENDAR
