BEGIN:VCALENDAR
VERSION:2.0
PRODID:-//ChamberMaster//Event Calendar 2.0//EN
METHOD:PUBLISH
X-PUBLISHED-TTL:P3D
REFRESH-INTERVAL:P3D
CALSCALE:GREGORIAN
BEGIN:VEVENT
DTSTART:20251011T150000Z
DTEND:20251011T200000Z
X-MICROSOFT-CDO-ALLDAYEVENT:FALSE
SUMMARY:Towanda Annual Pumpkin Rolling Festival
DESCRIPTION:A fun\, family-friendly downhill pumpkin rolling contest   compete to see whose pumpkin reaches the bottom of the hill in one piece\n	Local vendor fair beginning mid-day\, featuring crafts\, autumn goods\, food\, and more\n	The festival portion gives attendees a chance to browse\, mingle\, grab snacks\, and enjoy fall festivities before the big roll
X-ALT-DESC;FMTTYPE=text/html:<ul>\n	<li>A fun\, family-friendly <strong data-end="612" data-start="576">downhill pumpkin rolling contest</strong> &mdash\; compete to see whose pumpkin reaches the bottom of the hill in one piece</li>\n	<li>Local <strong data-end="751" data-start="736">vendor fair</strong> beginning mid-day\, featuring crafts\, autumn goods\, food\, and more</li>\n	<li>The festival portion gives attendees a chance to browse\, mingle\, grab snacks\, and enjoy fall festivities before the big roll</li>\n</ul>\n
LOCATION:The roll is located at Maple St which separates Gannon Associates and the Towanda Public Library. 724 Main Street Towanda\, Pennsylvania 18848
UID:e.2447.3703
SEQUENCE:3
DTSTAMP:20260423T155052Z
URL:https://business.centralbradford.org/events/details/towanda-annual-pumpkin-rolling-festival-3703
END:VEVENT

END:VCALENDAR
