BEGIN:VCALENDAR
VERSION:2.0
PRODID:-//ChamberMaster//Event Calendar 2.0//EN
METHOD:PUBLISH
X-PUBLISHED-TTL:P3D
REFRESH-INTERVAL:P3D
CALSCALE:GREGORIAN
BEGIN:VEVENT
DTSTART:20220521T220000Z
DTEND:20220522T010000Z
X-MICROSOFT-CDO-ALLDAYEVENT:FALSE
SUMMARY:Square and Round Dance - May 21st
DESCRIPTION:Free Community Event
X-ALT-DESC;FMTTYPE=text/html:Free Community Event&nbsp\;
LOCATION:Wysox Fire Hall 111 Lake Rd Wysox\, PA
UID:e.2447.2631
SEQUENCE:3
DTSTAMP:20260426T032504Z
URL:https://business.centralbradford.org/events/details/square-and-round-dance-may-21st-2631
END:VEVENT

END:VCALENDAR
