BEGIN:VCALENDAR
VERSION:2.0
PRODID:-//ChamberMaster//Event Calendar 2.0//EN
METHOD:PUBLISH
X-PUBLISHED-TTL:P3D
REFRESH-INTERVAL:P3D
CALSCALE:GREGORIAN
BEGIN:VEVENT
DTSTART:20220806T220000Z
DTEND:20220807T010000Z
X-MICROSOFT-CDO-ALLDAYEVENT:FALSE
SUMMARY:Square and Round Dance - August 6th
DESCRIPTION:FREE Community Dance.  Come out and enjoy some square dancing and music from The McNett County Band
X-ALT-DESC;FMTTYPE=text/html:FREE Community Dance.&nbsp\; Come out and enjoy some square dancing and music from The McNett County Band
LOCATION:Plaza One Parking Lot 1 Elizabeth St Towanda
UID:e.2447.2632
SEQUENCE:3
DTSTAMP:20260425T230554Z
URL:https://business.centralbradford.org/events/details/square-and-round-dance-august-6th-2632
END:VEVENT

END:VCALENDAR
