BEGIN:VCALENDAR
VERSION:2.0
PRODID:-//ChamberMaster//Event Calendar 2.0//EN
METHOD:PUBLISH
X-PUBLISHED-TTL:P3D
REFRESH-INTERVAL:P3D
CALSCALE:GREGORIAN
BEGIN:VEVENT
DTSTART:20250910T150000Z
DTEND:20250910T160000Z
X-MICROSOFT-CDO-ALLDAYEVENT:FALSE
SUMMARY:Senior Lunch and Learn Seminar - Medicare 101
DESCRIPTION:This class will give you a foundational understanding of the Medicare program\, its different parts (A\, B\, C\, and D)\, and how to navigate the enrollment process. \n\nTO REGISTER: (570) 268-9622 EX. 602 HEATHERW@RVRYMCA.ORG *** Open to YMCA Members and Non-Members **
X-ALT-DESC;FMTTYPE=text/html:This class will give you a foundational understanding of the Medicare program\, its different parts (A\, B\, C\, and D)\, and how to navigate the enrollment process.&nbsp\;<br />\nTO REGISTER: (570) 268-9622 EX. 602 HEATHERW@RVRYMCA.ORG *** Open to YMCA Members and Non-Members **
LOCATION:Bradford County YMCA 9 College Avenue Towanda\, PA 18848
UID:e.2447.3700
SEQUENCE:3
DTSTAMP:20260423T200802Z
URL:https://business.centralbradford.org/events/details/senior-lunch-and-learn-seminar-medicare-101-3700
END:VEVENT

END:VCALENDAR
