BEGIN:VCALENDAR
VERSION:2.0
PRODID:-//ChamberMaster//Event Calendar 2.0//EN
METHOD:PUBLISH
X-PUBLISHED-TTL:P3D
REFRESH-INTERVAL:P3D
CALSCALE:GREGORIAN
BEGIN:VEVENT
DTSTART:20220825T220000Z
DTEND:20220828T010000Z
X-MICROSOFT-CDO-ALLDAYEVENT:FALSE
SUMMARY:Riverfest Bingo Tent
DESCRIPTION:Come see us at the Bingo Tent during Riverfest
X-ALT-DESC;FMTTYPE=text/html:Come see us at the Bingo Tent during Riverfest
LOCATION:Merrill Parkway
UID:e.2447.2680
SEQUENCE:3
DTSTAMP:20260425T230727Z
URL:https://business.centralbradford.org/events/details/riverfest-bingo-tent-2680
END:VEVENT

END:VCALENDAR
