BEGIN:VCALENDAR
VERSION:2.0
PRODID:-//ChamberMaster//Event Calendar 2.0//EN
METHOD:PUBLISH
X-PUBLISHED-TTL:P3D
REFRESH-INTERVAL:P3D
CALSCALE:GREGORIAN
BEGIN:VEVENT
DTSTART:20220823T203000Z
DTEND:20220823T230000Z
X-MICROSOFT-CDO-ALLDAYEVENT:FALSE
SUMMARY:Ribbon Cutting/Grand Opening/Ice Cream Social
DESCRIPTION:Come join us in celebrating the opening of our new office
X-ALT-DESC;FMTTYPE=text/html:Come join us in celebrating the opening of our new office&nbsp\;
LOCATION:Central Bradford County Chamber of Commerce 321 Main St Towanda
UID:e.2447.2678
SEQUENCE:3
DTSTAMP:20260425T230958Z
URL:https://business.centralbradford.org/events/details/ribbon-cutting-grand-opening-ice-cream-social-2678
END:VEVENT

END:VCALENDAR
