BEGIN:VCALENDAR
VERSION:2.0
PRODID:-//ChamberMaster//Event Calendar 2.0//EN
METHOD:PUBLISH
X-PUBLISHED-TTL:P3D
REFRESH-INTERVAL:P3D
CALSCALE:GREGORIAN
BEGIN:VEVENT
DTSTART:20230119T223000Z
DTEND:20230119T224500Z
X-MICROSOFT-CDO-ALLDAYEVENT:FALSE
SUMMARY:Ribbon Cutting - Dale's Depot
DESCRIPTION:Come and help Celebrate the Opening of The Dale's Depot Store
X-ALT-DESC;FMTTYPE=text/html:Come and help Celebrate the Opening of The Dale&#39\;s Depot Store
LOCATION:513 Main St. Towanda\, PA
UID:e.2447.2697
SEQUENCE:3
DTSTAMP:20260425T153419Z
URL:https://business.centralbradford.org/events/details/ribbon-cutting-dale-s-depot-2697
END:VEVENT

END:VCALENDAR
