BEGIN:VCALENDAR
VERSION:2.0
PRODID:-//ChamberMaster//Event Calendar 2.0//EN
METHOD:PUBLISH
X-PUBLISHED-TTL:P3D
REFRESH-INTERVAL:P3D
CALSCALE:GREGORIAN
BEGIN:VEVENT
DTSTART:20220920T160000Z
DTEND:20220920T170000Z
X-MICROSOFT-CDO-ALLDAYEVENT:FALSE
SUMMARY:Non Profit Roundtable - September
DESCRIPTION:NonProfit Roundtable Discussion
X-ALT-DESC;FMTTYPE=text/html:NonProfit Roundtable Discussion
LOCATION:Lackawanna College 1024 South Main Towanda\, PA
UID:e.2447.2685
SEQUENCE:3
DTSTAMP:20260425T213042Z
URL:https://business.centralbradford.org/events/details/non-profit-roundtable-september-2685
END:VEVENT

END:VCALENDAR
