BEGIN:VCALENDAR
VERSION:2.0
PRODID:-//ChamberMaster//Event Calendar 2.0//EN
METHOD:PUBLISH
X-PUBLISHED-TTL:P3D
REFRESH-INTERVAL:P3D
CALSCALE:GREGORIAN
BEGIN:VEVENT
DTSTART:20220719T160000Z
DTEND:20220719T170000Z
X-MICROSOFT-CDO-ALLDAYEVENT:FALSE
SUMMARY:Non Profit Roundtable - July
DESCRIPTION:NonProfit Roundtable Discussion
X-ALT-DESC;FMTTYPE=text/html:NonProfit Roundtable Discussion
LOCATION:Lackawanna College 1024 South Main Towanda\, PA
UID:e.2447.2677
SEQUENCE:3
DTSTAMP:20260426T005018Z
URL:https://business.centralbradford.org/events/details/non-profit-roundtable-july-2677
END:VEVENT

END:VCALENDAR
