BEGIN:VCALENDAR
VERSION:2.0
PRODID:-//ChamberMaster//Event Calendar 2.0//EN
METHOD:PUBLISH
X-PUBLISHED-TTL:P3D
REFRESH-INTERVAL:P3D
CALSCALE:GREGORIAN
BEGIN:VEVENT
DTSTART:20230221T170000Z
DTEND:20230221T180000Z
X-MICROSOFT-CDO-ALLDAYEVENT:FALSE
SUMMARY:Non Profit Roundtable - February 2023
DESCRIPTION:NonProfit Roundtable Discussion
X-ALT-DESC;FMTTYPE=text/html:NonProfit Roundtable Discussion
LOCATION:Lackawanna College 1024 South Main Towanda\, PA
UID:e.2447.2706
SEQUENCE:3
DTSTAMP:20260425T140217Z
URL:https://business.centralbradford.org/events/details/non-profit-roundtable-february-2023-2706
END:VEVENT

END:VCALENDAR
