BEGIN:VCALENDAR
VERSION:2.0
PRODID:-//ChamberMaster//Event Calendar 2.0//EN
METHOD:PUBLISH
X-PUBLISHED-TTL:P3D
REFRESH-INTERVAL:P3D
CALSCALE:GREGORIAN
BEGIN:VEVENT
DTSTART:20221109T220000Z
DTEND:20221110T000000Z
X-MICROSOFT-CDO-ALLDAYEVENT:FALSE
SUMMARY:Net @ Night - Visions Federal Credit Union
DESCRIPTION:Invite your co-workers & friends and bring your business cards. Come and join us for an evening of networking\,
X-ALT-DESC;FMTTYPE=text/html:Invite your co-workers &amp\; friends and bring your business cards. Come and join us for an evening of networking\,
LOCATION:232 Ennis Lane Towanda\, PA
UID:e.2447.2684
SEQUENCE:3
DTSTAMP:20260425T181358Z
URL:https://business.centralbradford.org/events/details/net-night-visions-federal-credit-union-2684
END:VEVENT

END:VCALENDAR
