BEGIN:VCALENDAR
VERSION:2.0
PRODID:-//ChamberMaster//Event Calendar 2.0//EN
METHOD:PUBLISH
X-PUBLISHED-TTL:P3D
REFRESH-INTERVAL:P3D
CALSCALE:GREGORIAN
BEGIN:VEVENT
DTSTART:20221012T210000Z
DTEND:20221012T230000Z
X-MICROSOFT-CDO-ALLDAYEVENT:FALSE
SUMMARY:Net @ Night - The Flying Taco Mexican Grill & Steinbacher\, Goodall & Yurchak
DESCRIPTION:This event is being co-sponsored by The Flying Taco Mexican Grill and Steinbacher\, Goodall & Yurchak. \n\nInvite your co-workers & friends and bring your business cards. Come and join us for an evening of networking at there beautiful location
X-ALT-DESC;FMTTYPE=text/html:This event is being co-sponsored by The Flying Taco Mexican Grill and Steinbacher\, Goodall &amp\; Yurchak.&nbsp\;<br />\nInvite your co-workers &amp\; friends and bring your business cards. Come and join us for an evening of networking at there beautiful location
LOCATION:7 State Street Towanda\, PA
UID:e.2447.2683
SEQUENCE:3
DTSTAMP:20260425T195628Z
URL:https://business.centralbradford.org/events/details/net-night-the-flying-taco-mexican-grill-steinbacher-goodall-yurchak-2683
END:VEVENT

END:VCALENDAR
