BEGIN:VCALENDAR
VERSION:2.0
PRODID:-//ChamberMaster//Event Calendar 2.0//EN
METHOD:PUBLISH
X-PUBLISHED-TTL:P3D
REFRESH-INTERVAL:P3D
CALSCALE:GREGORIAN
BEGIN:VEVENT
DTSTART:20220721T210000Z
DTEND:20220721T230000Z
X-MICROSOFT-CDO-ALLDAYEVENT:FALSE
SUMMARY:Net @ Night - Mountain Lake Winery
DESCRIPTION:Grab your co-workers\, friends and business cards. Come and join us for an evening of networking at this beautiful winery.
X-ALT-DESC;FMTTYPE=text/html:Grab your co-workers\, friends and business cards. Come and join us for an evening of networking at this beautiful winery.&nbsp\;
LOCATION:391 Bailey Rd Towanda\, PA
UID:e.2447.2676
SEQUENCE:3
DTSTAMP:20260426T021753Z
URL:https://business.centralbradford.org/events/details/net-night-mountain-lake-winery-2676
END:VEVENT

END:VCALENDAR
