BEGIN:VCALENDAR
VERSION:2.0
PRODID:-//ChamberMaster//Event Calendar 2.0//EN
METHOD:PUBLISH
X-PUBLISHED-TTL:P3D
REFRESH-INTERVAL:P3D
CALSCALE:GREGORIAN
BEGIN:VEVENT
DTSTART:20220517T210000Z
DTEND:20220517T230000Z
X-MICROSOFT-CDO-ALLDAYEVENT:FALSE
SUMMARY:Net @ Night - Keystone Theatre
DESCRIPTION:A fun night of networking at the historical Keystone Theatre
X-ALT-DESC;FMTTYPE=text/html:A fun night of networking at the historical Keystone Theatre
LOCATION:601 Main Street Towanda
UID:e.2447.2633
SEQUENCE:3
DTSTAMP:20260426T032452Z
URL:https://business.centralbradford.org/events/details/net-night-keystone-theatre-2633
END:VEVENT

END:VCALENDAR
