BEGIN:VCALENDAR
VERSION:2.0
PRODID:-//ChamberMaster//Event Calendar 2.0//EN
METHOD:PUBLISH
X-PUBLISHED-TTL:P3D
REFRESH-INTERVAL:P3D
CALSCALE:GREGORIAN
BEGIN:VEVENT
DTSTART:20220915T210000Z
DTEND:20220915T230000Z
X-MICROSOFT-CDO-ALLDAYEVENT:FALSE
SUMMARY:Net @ Night - Deep Roots Hard Cider -2022
DESCRIPTION:Grab your co-workers\, friends and business cards. Come and join us for an evening of networking at there beautiful location
X-ALT-DESC;FMTTYPE=text/html:Grab your co-workers\, friends and business cards. Come and join us for an evening of networking at there beautiful location
LOCATION:348 Back Rd Sugar Run\, PA
UID:e.2447.2681
SEQUENCE:3
DTSTAMP:20260425T212844Z
URL:https://business.centralbradford.org/events/details/net-night-deep-roots-hard-cider-2022-2681
END:VEVENT

END:VCALENDAR
