BEGIN:VCALENDAR
VERSION:2.0
PRODID:-//ChamberMaster//Event Calendar 2.0//EN
METHOD:PUBLISH
X-PUBLISHED-TTL:P3D
REFRESH-INTERVAL:P3D
CALSCALE:GREGORIAN
BEGIN:VEVENT
DTSTART:20230119T220000Z
DTEND:20230120T000000Z
X-MICROSOFT-CDO-ALLDAYEVENT:FALSE
SUMMARY:Net @ Night - Dale's Depot
DESCRIPTION:Invite your co-workers & friends and bring your business cards. Come and join us for an evening of networking\,
X-ALT-DESC;FMTTYPE=text/html:<span style="color: rgb(51\, 51\, 51)\; font-family: sans-serif\, Arial\, Verdana\, &quot\;Trebuchet MS&quot\;\; font-size: 13px\; background-color: rgb(255\, 255\, 255)\;">Invite your co-workers &amp\; friends and bring your business cards. Come and join us for an evening of networking\,</span>
LOCATION:Dale's Depot 513 Main St Towanda PA 18848
UID:e.2447.2694
SEQUENCE:3
DTSTAMP:20260425T153235Z
URL:https://business.centralbradford.org/events/details/net-night-dale-s-depot-2694
END:VEVENT

END:VCALENDAR
