BEGIN:VCALENDAR
VERSION:2.0
PRODID:-//ChamberMaster//Event Calendar 2.0//EN
METHOD:PUBLISH
X-PUBLISHED-TTL:P3D
REFRESH-INTERVAL:P3D
CALSCALE:GREGORIAN
BEGIN:VEVENT
DTSTART:20240629T200000Z
DTEND:20240629T230000Z
X-MICROSOFT-CDO-ALLDAYEVENT:FALSE
SUMMARY:Music4Mather Fundraiser
DESCRIPTION:Join Mather Memorial Library for our very first Music4Mather fundraising event on June 29th from 4-7pm! Event will include live music\, a silent art auction\, refreshments\, and more! Featuring performances by Jacob Gilpin\, Clayton Purcell\, and Willow Bacorn. Hosted by local comedian Jason Gowin\, this event will be a fantastic evening you won't want to miss! Our goal is to raise at least $1\,000 - can you help us do it?
X-ALT-DESC;FMTTYPE=text/html:Join Mather Memorial Library for our very first Music4Mather fundraising event on June 29th from 4-7pm! Event will include live music\, a silent art auction\, refreshments\, and more! Featuring performances by Jacob Gilpin\, Clayton Purcell\, and Willow Bacorn. Hosted by local comedian Jason Gowin\, this event will be a fantastic evening you won&#39\;t want to miss! Our goal is to raise at least $1\,000 - can you help us do it?
LOCATION:Sheshequin Ulster Rec Center 65 Totem St. Ulster\, PA 18850
UID:e.2447.3486
SEQUENCE:3
DTSTAMP:20260424T171300Z
URL:https://business.centralbradford.org/events/details/music4mather-fundraiser-3486
END:VEVENT

END:VCALENDAR
