BEGIN:VCALENDAR
VERSION:2.0
PRODID:-//ChamberMaster//Event Calendar 2.0//EN
METHOD:PUBLISH
X-PUBLISHED-TTL:P3D
REFRESH-INTERVAL:P3D
CALSCALE:GREGORIAN
BEGIN:VEVENT
DTSTART:20251024T220000Z
DTEND:20251025T010000Z
X-MICROSOFT-CDO-ALLDAYEVENT:FALSE
SUMMARY:Murder Mystery
DESCRIPTION:Join us for an evening of intrigue\, costumes and mystery!  Staggering Unicorn Winery located at 314 S. Main Street\, in Athens is hosting a murder mystery on Friday night\, October 24th at 6 pm. Your ticket of $60 includes the show\, Italian dinner and a glass of wine.  Come out for an evening of fun. Proceeds benefit the United Way Bradford County VITA program.
X-ALT-DESC;FMTTYPE=text/html:<span style="color:#FFFFFF\;">Join us for an evening of intrigue\, costumes and mystery!&nbsp\; Staggering Unicorn Winery located at 314 S. Main Street\, in Athens is hosting a murder mystery on Friday night\, October 24th at 6 pm. Your ticket of $60 includes the show\, Italian dinner and a glass of wine.&nbsp\; Come out for an evening of fun. Proceeds benefit the United Way Bradford County VITA program.&nbsp\;</span>
LOCATION:314. S. Main Street Athens PA 18810
UID:e.2447.3694
SEQUENCE:3
DTSTAMP:20260423T154841Z
URL:https://business.centralbradford.org/events/details/murder-mystery-3694
END:VEVENT

END:VCALENDAR
