BEGIN:VCALENDAR
VERSION:2.0
PRODID:-//ChamberMaster//Event Calendar 2.0//EN
METHOD:PUBLISH
X-PUBLISHED-TTL:P3D
REFRESH-INTERVAL:P3D
CALSCALE:GREGORIAN
BEGIN:VEVENT
DTSTART:20260325T160000Z
DTEND:20260325T170000Z
X-MICROSOFT-CDO-ALLDAYEVENT:FALSE
SUMMARY:Lunch & Learn- The Spotted Lantern Fly
DESCRIPTION:Spotted Lantern Fly - Cindy Treore \n\n\n\nLunch & Learn: Protecting Your Business from the Spotted Lanternfly\n\nJoin us for a practical session on the spotted lanternfly an invasive pest that threatens agriculture\, landscaping\, and local businesses. Learn how to identify it\, understand its economic impact\, and discover steps your business can take to prevent its spread. Lunch will be provided.\n\n\n\nThe spotted lanternfly is more than just an environmental nuisance it can impact agriculture\, outdoor operations\, customer experiences\, and local economies. Join us for a practical session covering identification and simple strategies to help prevent its spread. Learn what you can do to protect your property and community while staying informed on best practices.\n\n\n\nBack by Popular Demand: Lunch & Learn!\n\nPre-registration is required. \n\nBring your lunch and join the Central Bradford County Chamber of Commerce (CBCCC) on the last Wednesday of each month for networking\, learning\, and sharing!\n\n\nEvent Highlights\n\n\n	\n	Featured Speaker: Each month\, enjoy a 15-minute presentation from a new speaker.\n	\n	\n	Elevator Pitch Speed Round: Share updates\, celebrate successes\, or promote new products just 2 minutes each. Afterward\, mingle and chat with fellow members.\n	\n\n\n\nPromote Your Products & Services\n\n\n	\n	ShopHop Table: Members can showcase 1 2 products or brochures. Attendees can browse at their convenience.\n	\n	\n	Sales Etiquette: You may sell on-site\, but please avoid unsolicited sales pitches.\n	\n\n\n\nNonprofits Welcome\n\n\n	\n	Bring informational pamphlets to share your current events with fellow members.\n	\n\n\n\nFeatured Speaker\n\n\n	\n	Interested in being our featured speaker? Contact Justin.\n	\n	\n	Presentation: 12:00 12:15 PM\n	\n	\n	Remember to bring business cards for follow-up discussions.\n	\n\n\n\nTaste of the Month\n\n\n	\n	Calling all local flavor producers! Provide free samples for attendees and arrive at least 10 minutes early for setup.\n	\n	\n	Tables provided. Contact Justin to reserve your spot.
X-ALT-DESC;FMTTYPE=text/html:<p data-end="539" data-start="328">Spotted Lantern Fly -&nbsp\;<span class="a_GcMg font-feature-liga-off font-feature-clig-off font-feature-calt-off text-decoration-none text-strikethrough-none" style="color: rgba(70\,130\,180\,var(--O42jJQ\,1))\; caret-color: rgb(70\, 130\, 180)\; --Ys-XuQ: none\; font-weight: 700\; font-kerning: normal\;">Cindy Treore&nbsp\;</span><br />\n<br />\n<strong data-end="126" data-start="55">Lunch &amp\; Learn: Protecting Your Business from the Spotted Lanternfly</strong><br data-end="129" data-start="126" />\nJoin us for a practical session on the spotted lanternfly&mdash\;an invasive pest that threatens agriculture\, landscaping\, and local businesses. Learn how to identify it\, understand its economic impact\, and discover steps your business can take to prevent its spread. Lunch will be provided.<br />\n<br />\nThe spotted lanternfly is more than just an environmental nuisance&mdash\;it can impact agriculture\, outdoor operations\, customer experiences\, and local economies. Join us for a practical session covering identification&nbsp\;and simple strategies to help prevent its spread. Learn what you can do to protect your property and community while staying informed on best practices.<br />\n<br />\n<strong data-end="370" data-start="328">Back by Popular Demand: Lunch &amp\; Learn!</strong><br />\nPre-registration&nbsp\;is required.&nbsp\;<br data-end="373" data-start="370" />\nBring your lunch&nbsp\;and join the <strong data-end="458" data-start="403">Central Bradford County Chamber of Commerce (CBCCC)</strong> on the <strong data-end="498" data-start="466">last Wednesday of each month</strong> for networking\, learning\, and sharing!</p>\n\n<hr data-end="544" data-start="541" />\n<h3 data-end="570" data-start="546"><strong data-end="570" data-start="550">Event Highlights</strong></h3>\n\n<ul data-end="832" data-start="571">\n	<li data-end="663" data-start="571">\n	<p data-end="663" data-start="573"><strong data-end="594" data-start="573">Featured Speaker:</strong> Each month\, enjoy a <strong data-end="641" data-start="615">15-minute presentation</strong> from a new speaker.</p>\n	</li>\n	<li data-end="832" data-start="664">\n	<p data-end="832" data-start="666"><strong data-end="697" data-start="666">Elevator Pitch Speed Round:</strong> Share updates\, celebrate successes\, or promote new products&mdash\;<strong data-end="781" data-start="758">just 2 minutes each</strong>. Afterward\, mingle and chat with fellow members.</p>\n	</li>\n</ul>\n\n<hr data-end="837" data-start="834" />\n<h3 data-end="879" data-start="839"><strong data-end="879" data-start="843">Promote Your Products &amp\; Services</strong></h3>\n\n<ul data-end="1092" data-start="880">\n	<li data-end="997" data-start="880">\n	<p data-end="997" data-start="882"><strong data-end="900" data-start="882">ShopHop Table:</strong> Members can showcase <strong data-end="938" data-start="922">1&ndash\;2 products</strong> or brochures. Attendees can browse at their convenience.</p>\n	</li>\n	<li data-end="1092" data-start="998">\n	<p data-end="1092" data-start="1000"><strong data-end="1020" data-start="1000">Sales Etiquette:</strong> You may sell on-site\, but please <strong data-end="1089" data-start="1054">avoid unsolicited sales pitches</strong>.</p>\n	</li>\n</ul>\n\n<hr data-end="1097" data-start="1094" />\n<h3 data-end="1125" data-start="1099"><strong data-end="1125" data-start="1103">Nonprofits Welcome</strong></h3>\n\n<ul data-end="1230" data-start="1126">\n	<li data-end="1230" data-start="1126">\n	<p data-end="1230" data-start="1128">Bring&nbsp\;informational pamphlets to share your current events with fellow members.</p>\n	</li>\n</ul>\n\n<hr data-end="1235" data-start="1232" />\n<h3 data-end="1261" data-start="1237"><strong data-end="1261" data-start="1241">Featured Speaker</strong></h3>\n\n<ul data-end="1432" data-start="1262">\n	<li data-end="1327" data-start="1262">\n	<p data-end="1327" data-start="1264">Interested in being our featured speaker? <strong data-end="1324" data-start="1306">Contact Justin</strong>.</p>\n	</li>\n	<li data-end="1364" data-start="1328">\n	<p data-end="1364" data-start="1330">Presentation: <strong data-end="1362" data-start="1344">12:00&ndash\;12:15 PM</strong></p>\n	</li>\n	<li data-end="1432" data-start="1365">\n	<p data-end="1432" data-start="1367">Remember to bring <strong data-end="1403" data-start="1385">business cards</strong> for follow-up discussions.</p>\n	</li>\n</ul>\n\n<hr data-end="1437" data-start="1434" />\n<h3 data-end="1467" data-start="1439"><strong data-end="1465" data-start="1443">Taste of the Month</strong></h3>\n\n<ul data-end="1660" data-start="1468">\n	<li data-end="1598" data-start="1468">\n	<p data-end="1598" data-start="1470">Calling all local flavor producers! Provide <strong data-end="1530" data-start="1514">free samples</strong> for attendees and arrive <strong data-end="1585" data-start="1556">at least 10 minutes early</strong> for setup.</p>\n	</li>\n	<li data-end="1660" data-start="1599">\n	<p data-end="1660" data-start="1601"><strong data-end="1620" data-start="1601">Tables provided</strong>. Contact Justin to reserve your spot.</p>\n	</li>\n</ul>\n
LOCATION:CBCCC Office Conference Room 1 Elizabeth St.\, Ste. 2A Towanda\, PA 18848
UID:e.2447.3797
SEQUENCE:3
DTSTAMP:20260422T102826Z
URL:https://business.centralbradford.org/events/details/lunch-learn-the-spotted-lantern-fly-3797
END:VEVENT

END:VCALENDAR
