BEGIN:VCALENDAR
VERSION:2.0
PRODID:-//ChamberMaster//Event Calendar 2.0//EN
METHOD:PUBLISH
X-PUBLISHED-TTL:P3D
REFRESH-INTERVAL:P3D
CALSCALE:GREGORIAN
BEGIN:VEVENT
DTSTART:20221110T170000Z
DTEND:20221110T180000Z
X-MICROSOFT-CDO-ALLDAYEVENT:FALSE
SUMMARY:Lunch & Learn - Social Media Tips for your Business
DESCRIPTION:Come out and learn how some Social Media Tips for your business
X-ALT-DESC;FMTTYPE=text/html:Come out and learn how some Social Media Tips for your business
LOCATION:Cental Bradford County Chamber of Commerce Office (upstairs) 321 Main St. Towanda\, PA
UID:e.2447.2691
SEQUENCE:3
DTSTAMP:20260425T181500Z
URL:https://business.centralbradford.org/events/details/lunch-learn-social-media-tips-for-your-business-2691
END:VEVENT

END:VCALENDAR
