BEGIN:VCALENDAR
VERSION:2.0
PRODID:-//ChamberMaster//Event Calendar 2.0//EN
METHOD:PUBLISH
X-PUBLISHED-TTL:P3D
REFRESH-INTERVAL:P3D
CALSCALE:GREGORIAN
BEGIN:VEVENT
DTSTART:20250130T170000Z
DTEND:20250130T180000Z
X-MICROSOFT-CDO-ALLDAYEVENT:FALSE
SUMMARY:Lunch & Learn
DESCRIPTION:Back by popular demand\, we invite you to bring your lunch and join the CBCCC on the last Wednesday of the month for Lunch & Learn! Each month\, we will feature a new speaker for a 15-minute presentation followed by an optional "Elevator Pitch Speed Round" where we will go around the room and offer everyone an opportunity to offer an update\, share a new product\, or celebrate something they're proud of. The main thing is that you have just 2 minutes to do it. After everyone who wants to talk has got their chance\, we welcome the group to chat amongst themselves for the remainder of the event.\n\n\n\nPromote your favorite products and services!\n\nEach month\, members are also invited to bring one or two of their company's products for our "Stop & Shop Table" - where attendees can browse featured products and service brochures at their convenience. Sell right on site\, but no "in your face" unsolicited sales pitches please!\n\n\n\nNonprofits - bring your donation jars!\n\nNo products or services to sell? No problem! Feel free to bring a donation jar and information pamphlet for any loose change in your fellow chamber members' pockets!\n\n\n\nFeatured Speaker \n\nContact Basil if you are interested in being our featured speaker! Featured Speaker presentations start at noon and end by 12:15. Please be sure to bring business cards to hand-out should anyone be interested in further in-depth discussion. \n\n\n\nTaste of the Month\n\nContact Basil if you are interested in being our Taste of the Month! (Tastes of the Month must provide free samples for Lunch & Learn attendees and arrive on site at least ten minutes early for set-up. One approximately 5-foot table will be dedicated to your samples.)
X-ALT-DESC;FMTTYPE=text/html:Back by popular demand\, we invite you to bring your lunch and join the CBCCC on the last Wednesday of the month for Lunch &amp\; Learn! Each month\, we will feature a new speaker for a 15-minute presentation followed by an optional &quot\;Elevator Pitch Speed Round&quot\; where we will go around the room and offer everyone an opportunity to offer an update\, share a new product\, or celebrate something they&#39\;re proud of. The main thing is that you have just 2 minutes to do it. After everyone who wants to talk has got their chance\, we welcome the group to chat amongst themselves for the remainder of the event.<br />\n<br />\n<strong>Promote your favorite products and services!</strong><br />\nEach month\, members are also invited to bring one or two of their company&#39\;s products for our &quot\;Stop &amp\; Shop Table&quot\; - where attendees can browse featured products and service brochures at their convenience. Sell right on site\, but no &quot\;in your face&quot\; unsolicited sales pitches please!<br />\n<br />\n<strong>Nonprofits - bring your donation jars!</strong><br />\nNo products or services to sell? No problem! Feel free to bring a donation jar and information pamphlet for any loose change in your fellow chamber members&#39\; pockets!<br />\n<br />\n<strong>Featured Speaker&nbsp\;</strong><br />\nContact Basil if you are interested in being our featured speaker! Featured Speaker presentations start at noon and end by 12:15. Please be sure to bring business cards to hand-out should anyone be interested in further in-depth discussion.&nbsp\;<br />\n<br />\n<b>Taste of the Month</b><br />\nContact Basil if you are interested in being our Taste of the Month! (Tastes of the Month must provide free samples for Lunch &amp\; Learn attendees and arrive on site at least ten minutes early for set-up. One approximately 5-foot table will be dedicated to your samples.)<br />\n<br />\n<br />\n&nbsp\;
LOCATION:CBCCC Office Conference Room 1 Elizabeth St.\, Ste. 2A Towanda\, PA 18848
UID:e.2447.3782
SEQUENCE:3
DTSTAMP:20260424T074739Z
URL:https://business.centralbradford.org/events/details/lunch-learn-01-30-2025-3782
END:VEVENT

END:VCALENDAR
