BEGIN:VCALENDAR
VERSION:2.0
PRODID:-//ChamberMaster//Event Calendar 2.0//EN
METHOD:PUBLISH
X-PUBLISHED-TTL:P3D
REFRESH-INTERVAL:P3D
CALSCALE:GREGORIAN
BEGIN:VEVENT
DTSTART:20220922T160000Z
DTEND:20220922T170000Z
X-MICROSOFT-CDO-ALLDAYEVENT:FALSE
SUMMARY:Hometown Christmas Meeting - Sept.
DESCRIPTION:Meet to continue planning our Hometown Christmas Event
X-ALT-DESC;FMTTYPE=text/html:Meet to continue planning our Hometown Christmas Event&nbsp\;&nbsp\;&nbsp\;&nbsp\;&nbsp\;&nbsp\;&nbsp\;&nbsp\;
LOCATION:321 Main St Towanda PA
UID:e.2447.2686
SEQUENCE:3
DTSTAMP:20260425T213125Z
URL:https://business.centralbradford.org/events/details/hometown-christmas-meeting-sept-2686
END:VEVENT

END:VCALENDAR
