BEGIN:VCALENDAR
VERSION:2.0
PRODID:-//ChamberMaster//Event Calendar 2.0//EN
METHOD:PUBLISH
X-PUBLISHED-TTL:P3D
REFRESH-INTERVAL:P3D
CALSCALE:GREGORIAN
BEGIN:VEVENT
DTSTART:20221202T230000Z
DTEND:20221204T000000Z
X-MICROSOFT-CDO-ALLDAYEVENT:FALSE
SUMMARY:Hometown Christmas 2022
DESCRIPTION:Friday Night: 6pm-8pm\n\nChristmas Tree Lighting @ 6:30pm\n\nFree Hot Cocoa\, Smores\, Hot Coffee\, Water & Hot Dogs\n\nCaroling & Gingerbread House Making
X-ALT-DESC;FMTTYPE=text/html:Friday Night: 6pm-8pm<br />\nChristmas Tree Lighting @ 6:30pm<br />\nFree Hot Cocoa\, Smores\, Hot Coffee\, Water &amp\; Hot Dogs<br />\nCaroling &amp\; Gingerbread House Making
LOCATION:Main and Court Streets - Towanda
UID:e.2447.2693
SEQUENCE:3
DTSTAMP:20260425T163623Z
URL:https://business.centralbradford.org/events/details/hometown-christmas-2022-2693
END:VEVENT

END:VCALENDAR
