BEGIN:VCALENDAR
VERSION:2.0
PRODID:-//ChamberMaster//Event Calendar 2.0//EN
METHOD:PUBLISH
X-PUBLISHED-TTL:P3D
REFRESH-INTERVAL:P3D
CALSCALE:GREGORIAN
BEGIN:VEVENT
DTSTART:20230112T220000Z
DTEND:20230113T000000Z
X-MICROSOFT-CDO-ALLDAYEVENT:FALSE
SUMMARY:Holiday Happy Hour
DESCRIPTION:Come out and enjoy a fun and festive night of networking. There will be an Ugly Christmas Sweater Contest (must be homemade\, no store bought). Also\, a Tacky Christmas sock contest. This is an adult only event\, fill free to bring your significant other.
X-ALT-DESC;FMTTYPE=text/html:Come out and enjoy a fun and festive night of networking. There will be an Ugly Christmas Sweater Contest (must be homemade\, no store bought). Also\, a Tacky Christmas sock contest. This is an adult only event\, fill free to bring your significant other.&nbsp\;
LOCATION:Towanda Golf Club 645 Golden Mile Rd Towanda\, PA 18848
UID:e.2447.2689
SEQUENCE:3
DTSTAMP:20260425T153132Z
URL:https://business.centralbradford.org/events/details/holiday-happy-hour-2689
END:VEVENT

END:VCALENDAR
