BEGIN:VCALENDAR
VERSION:2.0
PRODID:-//ChamberMaster//Event Calendar 2.0//EN
METHOD:PUBLISH
X-PUBLISHED-TTL:P3D
REFRESH-INTERVAL:P3D
CALSCALE:GREGORIAN
BEGIN:VEVENT
DTSTART:20221124T143000Z
DTEND:20221124T170000Z
X-MICROSOFT-CDO-ALLDAYEVENT:FALSE
SUMMARY:Guthrie Sayre Turkey Trot
DESCRIPTION:16th Annual Guthrie Sayre Turkey Trot Live Race with Virtual Option for 2022! Be a part of this beloved holiday tradition and the largest 5K in Bradford County\, with close to 1\,000 runners participating annually! This flat\, fast course starts and finishes at the historic Sayre Theatre\, and the course runs on local streets through the Athens and Sayre Boroughs. As we join together to Gobble Till We Wobble\, the health and well-being of our runners\, staff\, and volunteers are of utmost importance\, and we will follow appropriate COVID-19 guidelines.
X-ALT-DESC;FMTTYPE=text/html:16th Annual Guthrie Sayre Turkey Trot Live Race with Virtual Option for 2022! Be a part of this beloved holiday tradition and the largest 5K in Bradford County\, with close to 1\,000 runners participating annually! This flat\, fast course starts and finishes at the historic Sayre Theatre\, and the course runs on local streets through the Athens and Sayre Boroughs. As we join together to Gobble Till We Wobble\, the health and well-being of our runners\, staff\, and volunteers are of utmost importance\, and we will follow appropriate COVID-19 guidelines.
LOCATION:Sayre Theatre\, 205 South Elmer Ave.\, Sayre\, Pa.
UID:e.2447.2688
SEQUENCE:3
DTSTAMP:20260425T195351Z
URL:https://business.centralbradford.org/events/details/guthrie-sayre-turkey-trot-2688
END:VEVENT

END:VCALENDAR
