BEGIN:VCALENDAR
VERSION:2.0
PRODID:-//ChamberMaster//Event Calendar 2.0//EN
METHOD:PUBLISH
X-PUBLISHED-TTL:P3D
REFRESH-INTERVAL:P3D
CALSCALE:GREGORIAN
BEGIN:VEVENT
DTSTART:20220601T210000Z
DTEND:20220601T223000Z
X-MICROSOFT-CDO-ALLDAYEVENT:FALSE
SUMMARY:Diner's Choice Dinner
DESCRIPTION:Diner's Choice of Chicken\, Turkey\, or Beef and biscuits with salad and drink for $8
X-ALT-DESC;FMTTYPE=text/html:Diner&#39\;s Choice of Chicken\, Turkey\, or Beef and biscuits with salad and drink for $8
LOCATION:105 Main St\, Towanda
UID:e.2447.2674
SEQUENCE:3
DTSTAMP:20260426T015808Z
URL:https://business.centralbradford.org/events/details/diner-s-choice-dinner-2674
END:VEVENT

END:VCALENDAR
