BEGIN:VCALENDAR
VERSION:2.0
PRODID:-//ChamberMaster//Event Calendar 2.0//EN
METHOD:PUBLISH
X-PUBLISHED-TTL:P3D
REFRESH-INTERVAL:P3D
CALSCALE:GREGORIAN
BEGIN:VEVENT
DTSTART:20260402T220000Z
DTEND:20260402T230000Z
X-MICROSOFT-CDO-ALLDAYEVENT:FALSE
SUMMARY:Dessert Dash Sign up
DESCRIPTION:Get ready for one of the most exciting moments of the night! The Dessert Dash brings friendly competition as tables pool their bids for a chance to race to the dessert table and pick the best treat. Plus\, the Basket Raffle offers chances to win fantastic prizes donated by local businesses all while supporting the work of the Central Bradford County Chamber of Commerce.
X-ALT-DESC;FMTTYPE=text/html:Get ready for one of the most exciting moments of the night! The Dessert Dash brings friendly competition as tables pool their bids for a chance to race to the dessert table and pick the best treat. Plus\, the Basket Raffle offers chances to win fantastic prizes donated by local businesses&mdash\;all while supporting the work of the <span class="hover:entity-accent entity-underline inline cursor-pointer align-baseline">Central Bradford County Chamber of Commerce</span>.
LOCATION:
UID:e.2447.3935
SEQUENCE:3
DTSTAMP:20260421T091430Z
URL:https://business.centralbradford.org/events/details/dessert-dash-sign-up-3935
END:VEVENT

END:VCALENDAR
