BEGIN:VCALENDAR
VERSION:2.0
PRODID:-//ChamberMaster//Event Calendar 2.0//EN
METHOD:PUBLISH
X-PUBLISHED-TTL:P3D
REFRESH-INTERVAL:P3D
CALSCALE:GREGORIAN
BEGIN:VEVENT
DTSTART:20221008T110000Z
DTEND:20221008T160000Z
X-MICROSOFT-CDO-ALLDAYEVENT:FALSE
SUMMARY:Central Bradford Triathlon
DESCRIPTION:COURSE INFORMATION\n\n3 Mile Run\n\n3.6 Mile Paddle on the Susquehanna River\n\n13.8 Mile Bike Ride
X-ALT-DESC;FMTTYPE=text/html:<p class="_04xlpA direction-ltr align-center para-style-body" style="font-family: &quot\;YAD7Qybjw1I 0&quot\;\, _fb_\, auto\; --font-size:14.8261px\; --line-height:0.79\; line-height: 11px\;"><span class="JsGRdQ">COURSE INFORMATION</span></p>\n\n<p class="_04xlpA direction-ltr align-center para-style-body" style="font-family: &quot\;YAD7Qybjw1I 0&quot\;\, _fb_\, auto\; --font-size:14.8261px\; --line-height:0.79\; line-height: 11px\;"><span class="JsGRdQ">3 Mile Run</span></p>\n\n<p class="_04xlpA direction-ltr align-start para-style-body" style="font-family: &quot\;YAD7Qybjw1I 0&quot\;\, _fb_\, auto\; --font-size:12px\; --line-height:0.79\; line-height: 9px\;"><span class="JsGRdQ">3.6 Mile Paddle on the</span><span class="JsGRdQ white-space-prewrap"> </span><span class="JsGRdQ">Susquehanna River</span></p>\n\n<p class="_04xlpA direction-ltr align-start para-style-body" style="font-family: &quot\;YAD7Qybjw1I 0&quot\;\, _fb_\, auto\; --font-size:12px\; --line-height:0.79\; line-height: 9px\;"><span class="JsGRdQ">13.8 Mile Bike Ride</span><br />\n&nbsp\;</p>\n
LOCATION:Bradford County Airport 415 Airport Road Towanda
UID:e.2447.2669
SEQUENCE:3
DTSTAMP:20260425T212951Z
URL:https://business.centralbradford.org/events/details/central-bradford-triathlon-2669
END:VEVENT

END:VCALENDAR
