BEGIN:VCALENDAR
VERSION:2.0
PRODID:-//ChamberMaster//Event Calendar 2.0//EN
METHOD:PUBLISH
X-PUBLISHED-TTL:P3D
REFRESH-INTERVAL:P3D
CALSCALE:GREGORIAN
BEGIN:VEVENT
DTSTART:20230316T213000Z
DTEND:20230317T000000Z
X-MICROSOFT-CDO-ALLDAYEVENT:FALSE
SUMMARY:Boots & BBQ Annual Dinner 2023
DESCRIPTION:Dust off your Cowboy boots & Hats for our annual dinner meeting.  We will be having a fun western themed dinner and music by Logan Route. 5:30pm -6 will be social hour and then dinner and of course we need to take care of some business.  We are hoping to have another crazy dessert dash so come prepared..
X-ALT-DESC;FMTTYPE=text/html:Dust off your Cowboy boots &amp\; Hats for our annual dinner meeting.&nbsp\; We will be having a fun western themed dinner and music by Logan Route. 5:30pm -6 will be social hour and then dinner and of course we need to take care of some business.&nbsp\; We are hoping to have another crazy dessert dash so come prepared..&nbsp\;
LOCATION:Kings on South Main Street in Towanda 929 South Main St
UID:e.2447.2700
SEQUENCE:3
DTSTAMP:20260425T123024Z
URL:https://business.centralbradford.org/events/details/boots-bbq-annual-dinner-2023-2700
END:VEVENT

END:VCALENDAR
