BEGIN:VCALENDAR
VERSION:2.0
PRODID:-//ChamberMaster//Event Calendar 2.0//EN
METHOD:PUBLISH
X-PUBLISHED-TTL:P3D
REFRESH-INTERVAL:P3D
CALSCALE:GREGORIAN
BEGIN:VEVENT
DTSTART:20260402T220000Z
DTEND:20260402T230000Z
X-MICROSOFT-CDO-ALLDAYEVENT:FALSE
SUMMARY:Basket Raffle Sign up
DESCRIPTION:Try your luck in the Basket Raffle\, featuring a variety of beautifully curated baskets generously donated by local businesses and community members. From specialty items and local products to unique experiences\, there's something for everyone. Simply purchase raffle tickets and place them in the baskets you hope to win. Every ticket supports the programs and initiatives of the Central Bradford County Chamber of Commerce while giving you the chance to take home a great prize.
X-ALT-DESC;FMTTYPE=text/html:Try your luck in the <strong data-end="69" data-start="52">Basket Raffle</strong>\, featuring a variety of beautifully curated baskets generously donated by local businesses and community members. From specialty items and local products to unique experiences\, there&rsquo\;s something for everyone. Simply purchase raffle tickets and place them in the baskets you hope to win. Every ticket supports the programs and initiatives of the <span class="hover:entity-accent entity-underline inline cursor-pointer align-baseline">Central Bradford County Chamber of Commerce</span> while giving you the chance to take home a great prize.
LOCATION:
UID:e.2447.3936
SEQUENCE:3
DTSTAMP:20260421T091426Z
URL:https://business.centralbradford.org/events/details/basket-raffle-sign-up-3936
END:VEVENT

END:VCALENDAR
