BEGIN:VCALENDAR
VERSION:2.0
PRODID:-//ChamberMaster//Event Calendar 2.0//EN
METHOD:PUBLISH
X-PUBLISHED-TTL:P3D
REFRESH-INTERVAL:P3D
CALSCALE:GREGORIAN
BEGIN:VEVENT
DTSTART:20251025T150000Z
DTEND:20251026T004500Z
X-MICROSOFT-CDO-ALLDAYEVENT:FALSE
SUMMARY:Antler Ridge 20th Anniversary Party
DESCRIPTION:20th Anniversary Party this Saturday in Rome and 20% off wine bottles in Rome and Mertztown!\n\n\n\nIt's hard to believe\, but this is our 20th year of making great wine and great friendships. We plan on celebrating on Saturday in Rome! You don't want to miss this incredible lineup! Come on over to Rome and see what we have been up to this summer    ..\n\n\n\nOur first incredible country band is the Jason Wicks Band from 2pm to 5pm.\n\nWe will do a quick ribbon cutting at 4pm with some of our old friends.\n\nWe will wrap up the night with some great rock and roll from our friends "Ain't Got Nun" from 6pm to 9pm.\n\n\n\nWe will have free chicken dinners while they last starting around 2:30pm   3pm as a thank you to our great customers.\n\n\n\nIn addition - we will have 20% off all wine bottles Wednesday   Sunday this week in Rome and Mertztown!\n\nCome celebrate with us!
X-ALT-DESC;FMTTYPE=text/html:<div class="xdj266r x14z9mp xat24cr x1lziwak x1vvkbs x126k92a" style="overflow-wrap: break-word\; white-space-collapse: preserve\; margin-inline: 0px\; margin-bottom: 0px\; margin-top: 0px\; font-family: &quot\;Segoe UI Historic&quot\;\, &quot\;Segoe UI&quot\;\, Helvetica\, Arial\, sans-serif\; color: rgb(8\, 8\, 9)\; font-size: 14px\; background-color: rgb(255\, 255\, 255)\;">\n<div dir="auto" style="font-family: inherit\;">20th Anniversary Party this Saturday in Rome and 20% off wine bottles in Rome and Mertztown!</div>\n</div>\n\n<div class="x14z9mp xat24cr x1lziwak x1vvkbs xtlvy1s x126k92a" style="overflow-wrap: break-word\; white-space-collapse: preserve\; margin-top: 0.5em\; margin-inline: 0px\; margin-bottom: 0px\; font-family: &quot\;Segoe UI Historic&quot\;\, &quot\;Segoe UI&quot\;\, Helvetica\, Arial\, sans-serif\; color: rgb(8\, 8\, 9)\; font-size: 14px\; background-color: rgb(255\, 255\, 255)\;">\n<div dir="auto" style="font-family: inherit\;">It&rsquo\;s hard to believe\, but this is our 20th year of making great wine and great friendships. We plan on celebrating on Saturday in Rome! You don&rsquo\;t want to miss this incredible lineup! Come on over to Rome and see what we have been up to this summer&hellip\;&hellip\;&hellip\;&hellip\;..</div>\n</div>\n\n<div class="x14z9mp xat24cr x1lziwak x1vvkbs xtlvy1s x126k92a" style="overflow-wrap: break-word\; white-space-collapse: preserve\; margin-top: 0.5em\; margin-inline: 0px\; margin-bottom: 0px\; font-family: &quot\;Segoe UI Historic&quot\;\, &quot\;Segoe UI&quot\;\, Helvetica\, Arial\, sans-serif\; color: rgb(8\, 8\, 9)\; font-size: 14px\; background-color: rgb(255\, 255\, 255)\;">\n<div dir="auto" style="font-family: inherit\;">Our first incredible country band is the Jason Wicks Band from 2pm to 5pm.</div>\n\n<div dir="auto" style="font-family: inherit\;">We will do a quick ribbon cutting at 4pm with some of our old friends.</div>\n\n<div dir="auto" style="font-family: inherit\;">We will wrap up the night with some great rock and roll from our friends &ldquo\;Ain&rsquo\;t Got Nun&rdquo\; from 6pm to 9pm.</div>\n</div>\n\n<div class="x14z9mp xat24cr x1lziwak x1vvkbs xtlvy1s x126k92a" style="overflow-wrap: break-word\; white-space-collapse: preserve\; margin-top: 0.5em\; margin-inline: 0px\; margin-bottom: 0px\; font-family: &quot\;Segoe UI Historic&quot\;\, &quot\;Segoe UI&quot\;\, Helvetica\, Arial\, sans-serif\; color: rgb(8\, 8\, 9)\; font-size: 14px\; background-color: rgb(255\, 255\, 255)\;">\n<div dir="auto" style="font-family: inherit\;">We will have free chicken dinners while they last starting around 2:30pm &ndash\; 3pm as a thank you to our great customers.</div>\n</div>\n\n<div class="x14z9mp xat24cr x1lziwak x1vvkbs xtlvy1s x126k92a" style="overflow-wrap: break-word\; white-space-collapse: preserve\; margin-top: 0.5em\; margin-inline: 0px\; margin-bottom: 0px\; font-family: &quot\;Segoe UI Historic&quot\;\, &quot\;Segoe UI&quot\;\, Helvetica\, Arial\, sans-serif\; color: rgb(8\, 8\, 9)\; font-size: 14px\; background-color: rgb(255\, 255\, 255)\;">\n<div dir="auto" style="font-family: inherit\;">In addition - we will have 20% off all wine bottles Wednesday &ndash\; Sunday this week in Rome and Mertztown!</div>\n\n<div dir="auto" style="font-family: inherit\;">Come celebrate with us!</div>\n</div>\n
LOCATION:37 Antler Ridge Ln\, Ulster\, PA 18850
UID:e.2447.3710
SEQUENCE:3
DTSTAMP:20260423T160025Z
URL:https://business.centralbradford.org/events/details/antler-ridge-20th-anniversary-party-3710
END:VEVENT

END:VCALENDAR
