BEGIN:VCALENDAR
VERSION:2.0
PRODID:-//ChamberMaster//Event Calendar 2.0//EN
METHOD:PUBLISH
X-PUBLISHED-TTL:P3D
REFRESH-INTERVAL:P3D
CALSCALE:GREGORIAN
BEGIN:VEVENT
DTSTART:20220617T120000Z
DTEND:20220617T200000Z
X-MICROSOFT-CDO-ALLDAYEVENT:FALSE
SUMMARY:9th Annual Golf Tournament
DESCRIPTION:
X-ALT-DESC;FMTTYPE=text/html:
LOCATION:Towanda Golf Club 645 Golden Mile Rd Towanda\, PA
UID:e.2447.2463
SEQUENCE:3
DTSTAMP:20260426T020010Z
URL:https://business.centralbradford.org/events/details/9th-annual-golf-tournament-2463
END:VEVENT

END:VCALENDAR
